BEGIN:VCALENDAR
CALSCALE:GREGORIAN
BEGIN:VEVENT
DTSTAMP:20231022T063321Z
DTSTART:20230502T133000Z
DTEND:20230502T143000Z
SUMMARY:Managing nature-related risks and opportunities with TNFD
UID:f603570d-3447-480e-994a-023722038009
LOCATION:
X-ALT-DESC;FMTTYPE=text/html:
END:VEVENT
END:VCALENDAR
