BEGIN:VCALENDAR
CALSCALE:GREGORIAN
BEGIN:VEVENT
DTSTAMP:20231022T062914Z
DTSTART:20221010T120000Z
DTEND:20221010T133000Z
SUMMARY:Webinar Series: Corporate Carbon Footprint Scope 3 – Management of indirect emissions and value chain engagement (3/4)
UID:f750adaf-9bce-4d51-9cfc-85d487ab6c32
LOCATION:
DESCRIPTION:Thank you for registering to our event "Corporate Carbon Footprint Scope 3 – Management of indirect emissions and value chain engagement".\n\nWe're looking forward to seeing you there.\n\nJoin Zoom Meeting\nhttps://us02web.zoom.us/j/87541237918\n\nMeeting ID:  875 4123 7918\n\nDial in according to current location (Switzerland):\n  +41 43 210 70 42 Schweiz\n  +41 43 210 71 08 Schweiz\n  +41 44 529 92 72 Schweiz\n  +41 22 591 00 05 Schweiz\n  +41 22 591 01 56 Schweiz\n  +41 31 528 09 88 Schweiz\nMeeting-ID: 834 5988 2763\nOther locations:   https://us02web.zoom.us/j/87541237918\n\n\nIf you have any questions or need to cancel your registration\, please reply to this Email.\n\nYour Global Compact Network Switzerland & Liechtenstein Secretariat\n\n\n\nHere are the event details:\n\nWebinar Series: Corporate Carbon Footprint Scope 3 – Management of indirect emissions and value chain engagement (3/4)\n10 October 2022\, 14:00–15:30\nWebinar
X-ALT-DESC;FMTTYPE=text/html:Thank you for registering to our event "Corporate Carbon Footprint Scope 3 – Management of indirect emissions and value chain engagement".\n\nWe're looking forward to seeing you there.\n\nJoin Zoom Meeting\nhttps://us02web.zoom.us/j/87541237918\n\nMeeting ID:  875 4123 7918\n\nDial in according to current location (Switzerland):\n  +41 43 210 70 42 Schweiz\n  +41 43 210 71 08 Schweiz\n  +41 44 529 92 72 Schweiz\n  +41 22 591 00 05 Schweiz\n  +41 22 591 01 56 Schweiz\n  +41 31 528 09 88 Schweiz\nMeeting-ID: 834 5988 2763\nOther locations:   https://us02web.zoom.us/j/87541237918\n\n\nIf you have any questions or need to cancel your registration\, please reply to this Email.\n\nYour Global Compact Network Switzerland & Liechtenstein Secretariat\n\n\n\nHere are the event details:<br>Webinar Series: Corporate Carbon Footprint Scope 3 – Management of indirect emissions and value chain engagement (3/4)\n10 October 2022\, 14:00–15:30\nWebinar
END:VEVENT
END:VCALENDAR
