BEGIN:VCALENDAR
CALSCALE:GREGORIAN
BEGIN:VEVENT
DTSTAMP:20231022T063256Z
DTSTART:20210518T130000Z
DTEND:20210518T170000Z
SUMMARY:Climate Ambition Accelerator Live Q&A Session
UID:f849fd44-038d-44d0-9424-7bc9ebd78070
LOCATION:
X-ALT-DESC;FMTTYPE=text/html:
END:VEVENT
END:VCALENDAR
