BEGIN:VCALENDAR
CALSCALE:GREGORIAN
BEGIN:VEVENT
DTSTAMP:20231022T063227Z
DTSTART:20230118T143000Z
DTEND:20230119T143000Z
SUMMARY:Information Session for the Peer Learning Groups
UID:f1222b75-c2f5-4706-b635-bd563fcc5c6a
LOCATION:
X-ALT-DESC;FMTTYPE=text/html:
END:VEVENT
END:VCALENDAR
