BEGIN:VCALENDAR
CALSCALE:GREGORIAN
BEGIN:VEVENT
DTSTAMP:20231022T063355Z
DTSTART:20210317T153000Z
DTEND:20210317T163000Z
SUMMARY:Verantwortungsvolle und nachhaltige Unternehmensführung im Schweizer Finanzmarkt
UID:f24c282c-bef9-4692-9c63-315aa262c15a
LOCATION:
DESCRIPTION:Vielen Dank\, dass Sie sich zu unserer Veranstaltung "Verantwortungsvolle und nachhaltige Unternehmensführung im Schweizer Finanzmarkt" angemeldet haben.\n\nWir freuen uns\, Sie dort zu sehen.\n\nTreten Sie dem Zoom Meeting bei\nhttps://us02web.zoom.us/j/84866837899\n\nMeeting ID: 848 6683 7899\n\nEinwahl nach aktuellem Standort (Schweiz):\n+41 44 529 92 72\n+41 22 591 00 05\n+41 22 591 01 56\n+41 31 528 09 88\n+41 43 210 70 42\n+41 43 210 71 08\nAndere Standorte: https://us02web.zoom.us/u/kc7FZabPlf\n\nWenn Sie Fragen haben oder Ihre Teilnahme stornieren möchten\, antworten Sie bitte auf diese E-Mail.\n\nDas Global Compact Network Schweiz & Liechtenstein Sekretariat\n\n\n\nHier sind die Details zur Veranstaltung:\n\nVerantwortungsvolle und nachhaltige Unternehmensführung im Schweizer Finanzmarkt\n17 March 2021\, 16:30–17:30 CET\nOnline Event
X-ALT-DESC;FMTTYPE=text/html:Vielen Dank\, dass Sie sich zu unserer Veranstaltung "Verantwortungsvolle und nachhaltige Unternehmensführung im Schweizer Finanzmarkt" angemeldet haben.\n\nWir freuen uns\, Sie dort zu sehen.\n\nTreten Sie dem Zoom Meeting bei\nhttps://us02web.zoom.us/j/84866837899\n\nMeeting ID: 848 6683 7899\n\nEinwahl nach aktuellem Standort (Schweiz):\n+41 44 529 92 72\n+41 22 591 00 05\n+41 22 591 01 56\n+41 31 528 09 88\n+41 43 210 70 42\n+41 43 210 71 08\nAndere Standorte: https://us02web.zoom.us/u/kc7FZabPlf\n\nWenn Sie Fragen haben oder Ihre Teilnahme stornieren möchten\, antworten Sie bitte auf diese E-Mail.\n\nDas Global Compact Network Schweiz & Liechtenstein Sekretariat\n\n\n\nHier sind die Details zur Veranstaltung:<br>Verantwortungsvolle und nachhaltige Unternehmensführung im Schweizer Finanzmarkt\n17 March 2021\, 16:30–17:30 CET\nOnline Event
END:VEVENT
END:VCALENDAR
