BEGIN:VCALENDAR
CALSCALE:GREGORIAN
BEGIN:VEVENT
DTSTAMP:20231022T063425Z
DTSTART:20220414T063000Z
DTEND:20220414T080000Z
SUMMARY:Vertiefungswebinar menschenrechtliche Sorgfaltspflichten - Risikoanalyse Textil
UID:f2c6e8f3-3cd1-4b67-91c4-c93f1933c542
LOCATION:
X-ALT-DESC;FMTTYPE=text/html:
END:VEVENT
END:VCALENDAR
