BEGIN:VCALENDAR
CALSCALE:GREGORIAN
BEGIN:VEVENT
DTSTAMP:20231022T063012Z
DTSTART:20220512T070000Z
DTEND:20220512T083000Z
SUMMARY:Guidance and best practices to implement corporate Human Rights Due Diligence in operations (2/3)
UID:f2d7a7ff-7456-4865-b08a-693b82e6477a
LOCATION:
DESCRIPTION:Thank you for registering to our event "Guidance and best practices to implement corporate Human Rights Due Diligence in operations (2/3)".\n\nWe're looking forward to seeing you there.\n\nJoin Zoom Meeting\nhttps://us02web.zoom.us/j/84003952745\n\nMeeting-ID: 840 0395 2745\n\nDial in according to current location (Switzerland):\n+41 44 529 92 72\n+41 22 591 00 05\n+41 22 591 01 56\n+41 31 528 09 88\n+41 43 210 70 42\n+41 43 210 71 08\nOther locations: https://us02web.zoom.us/u/kc7FZabPlf\n\nIf you have any questions or need to cancel your registration\, please reply to this Email.\n\nYour Global Compact Network Switzerland & Liechtenstein Secretariat\n\n\n\nHere are the event details:\n\nGuidance and best practices to implement corporate Human Rights Due Diligence in operations (2/3)\n12 May 2022\, 09:00–10:30 CEST\nWebinar Series
X-ALT-DESC;FMTTYPE=text/html:Thank you for registering to our event "Guidance and best practices to implement corporate Human Rights Due Diligence in operations (2/3)".\n\nWe're looking forward to seeing you there.\n\nJoin Zoom Meeting\nhttps://us02web.zoom.us/j/84003952745\n\nMeeting-ID: 840 0395 2745\n\nDial in according to current location (Switzerland):\n+41 44 529 92 72\n+41 22 591 00 05\n+41 22 591 01 56\n+41 31 528 09 88\n+41 43 210 70 42\n+41 43 210 71 08\nOther locations: https://us02web.zoom.us/u/kc7FZabPlf\n\nIf you have any questions or need to cancel your registration\, please reply to this Email.\n\nYour Global Compact Network Switzerland & Liechtenstein Secretariat\n\n\n\nHere are the event details:<br>Guidance and best practices to implement corporate Human Rights Due Diligence in operations (2/3)\n12 May 2022\, 09:00–10:30 CEST\nWebinar Series
END:VEVENT
END:VCALENDAR
