BEGIN:VCALENDAR
CALSCALE:GREGORIAN
BEGIN:VEVENT
DTSTAMP:20231022T063252Z
DTSTART:20200305T120000Z
DTEND:20200305T153000Z
SUMMARY:Training: Introduction to the UNGC and CSR/RBC - D/E
UID:f38424c8-c819-40b0-8c4a-56cfe6cea33b
LOCATION:Hegibachstrasse 47\, 8032 Zürich\, Schweiz
DESCRIPTION:Thank you for registering to our event!\n\nWe're looking forward to seeing you there.\n\nHere are the event details:\n\nTraining: Introduction to the UNGC and CSR/RBC - D/E\n5 March 2020\, 13:00–16:30\nHaus der Wirtschaft\, Hegibachstrasse 47\, 8032 Zürich\, Schweiz
X-ALT-DESC;FMTTYPE=text/html:Thank you for registering to our event!\n\nWe're looking forward to seeing you there.\n\nHere are the event details:<br>Training: Introduction to the UNGC and CSR/RBC - D/E\n5 March 2020\, 13:00–16:30\nHaus der Wirtschaft\, Hegibachstrasse 47\, 8032 Zürich\, Schweiz
END:VEVENT
END:VCALENDAR
