BEGIN:VCALENDAR
CALSCALE:GREGORIAN
BEGIN:VEVENT
DTSTAMP:20231022T063310Z
DTSTART:20230511T080000Z
DTEND:20230511T090000Z
SUMMARY:CoP Q&A Session 1
UID:fa556f4e-ecc9-4500-b745-6b3784e08b61
LOCATION:
DESCRIPTION:Thank you for registering to our event!\n\nWe're looking forward to seeing you there.\n\nJoin Zoom Meeting\nhttps://us02web.zoom.us/j/86239867859\n\nMeeting ID: 862 3986 7859\nOne tap mobile\n+41225910156\,\,86239867859# Switzerland\n+41315280988\,\,86239867859# Switzerland\n\nDial by your location\n        +41 22 591 01 56 Switzerland\n        +41 31 528 09 88 Switzerland\n        +41 43 210 70 42 Switzerland\n        +41 43 210 71 08 Switzerland\n        +41 44 529 92 72 Switzerland\n        +41 22 591 00 05 Switzerland\n\nHere are the event details:\n\nCoP Q&A Session 1\n11 May 2023\, 10:00–11:00\nWebinar
X-ALT-DESC;FMTTYPE=text/html:Thank you for registering to our event!\n\nWe're looking forward to seeing you there.\n\nJoin Zoom Meeting\nhttps://us02web.zoom.us/j/86239867859\n\nMeeting ID: 862 3986 7859\nOne tap mobile\n+41225910156\,\,86239867859# Switzerland\n+41315280988\,\,86239867859# Switzerland\n\nDial by your location\n        +41 22 591 01 56 Switzerland\n        +41 31 528 09 88 Switzerland\n        +41 43 210 70 42 Switzerland\n        +41 43 210 71 08 Switzerland\n        +41 44 529 92 72 Switzerland\n        +41 22 591 00 05 Switzerland\n\nHere are the event details:<br>CoP Q&A Session 1\n11 May 2023\, 10:00–11:00\nWebinar
END:VEVENT
END:VCALENDAR
