BEGIN:VCALENDAR
CALSCALE:GREGORIAN
BEGIN:VEVENT
DTSTAMP:20231022T063351Z
DTSTART:20211007T120000Z
DTEND:20211008T110000Z
SUMMARY:Workshop: Setting Goals and Targets in Pursuit of the SDGs
UID:fa59b6f7-51dd-4392-835d-46aa783b8531
LOCATION:
X-ALT-DESC;FMTTYPE=text/html:
END:VEVENT
END:VCALENDAR
