BEGIN:VCALENDAR
CALSCALE:GREGORIAN
BEGIN:VEVENT
DTSTAMP:20231022T063304Z
DTSTART:20230118T090000Z
DTEND:20230118T103000Z
SUMMARY:Global Compact Network Austria: THG-Emissionen in der Lieferkette | Teil 1
UID:fb1464e6-f283-4910-bea8-4feb42cd9d7f
LOCATION:
X-ALT-DESC;FMTTYPE=text/html:
END:VEVENT
END:VCALENDAR
