BEGIN:VCALENDAR
CALSCALE:GREGORIAN
BEGIN:VEVENT
DTSTAMP:20231022T063432Z
DTSTART:20220814T070000Z
DTEND:20220814T160000Z
SUMMARY:Les Moustaches Ride 2022
UID:fb288e8f-4f3a-4735-92a7-a935fb05a8d0
LOCATION:Zürichsee\, Schweiz
X-ALT-DESC;FMTTYPE=text/html:
END:VEVENT
END:VCALENDAR
