BEGIN:VCALENDAR
CALSCALE:GREGORIAN
BEGIN:VEVENT
DTSTAMP:20231022T062810Z
DTSTART:20210607T120000Z
DTEND:20210607T150000Z
SUMMARY:Staatssekretariat für Wirtschaft SECO: Globale Verantwortung im Finanzsektor managen
UID:fbb146e8-c110-42be-8a41-d8f57cbd1bf5
LOCATION:
X-ALT-DESC;FMTTYPE=text/html:
END:VEVENT
END:VCALENDAR
