BEGIN:VCALENDAR
CALSCALE:GREGORIAN
BEGIN:VEVENT
DTSTAMP:20231022T063240Z
DTSTART:20221103T070000Z
DTEND:20221104T070000Z
SUMMARY:Information Session for the new Business & Human Rights Accelerator (morning)
UID:fcad9938-4a0b-4702-8446-fcddcc2e0045
LOCATION:
X-ALT-DESC;FMTTYPE=text/html:
END:VEVENT
END:VCALENDAR
