BEGIN:VCALENDAR
CALSCALE:GREGORIAN
BEGIN:VEVENT
DTSTAMP:20231022T063010Z
DTSTART:20210209T133000Z
DTEND:20210209T143000Z
SUMMARY:Human Rights Due Diligence Step 1 - Policy Commitment on Human Rights
UID:fcc41cd9-10f7-44c1-a0a4-b4054d3b644d
LOCATION:
DESCRIPTION:Thank you for registering to our event "Human Rights Due Diligence Step 1 - Policy Commitment on Human Rights"\n\nWe're looking forward to seeing you there.\n\nJoin Teams Meeting: \nhttps://bit.ly/36ykzNe\n\nIf you have any questions or need to cancel your registration\, please reply to this Email.\n\nYour Global Compact Network Switzerland & Liechtenstein Secretariat\n\n\n\nHere are the event details:\n\nHuman Rights Due Diligence Step 1 - Policy Commitment on Human Rights\n9 February 2021\, 14:30–15:30 CET\nOnline Event
X-ALT-DESC;FMTTYPE=text/html:Thank you for registering to our event "Human Rights Due Diligence Step 1 - Policy Commitment on Human Rights"\n\nWe're looking forward to seeing you there.\n\nJoin Teams Meeting: \nhttps://bit.ly/36ykzNe\n\nIf you have any questions or need to cancel your registration\, please reply to this Email.\n\nYour Global Compact Network Switzerland & Liechtenstein Secretariat\n\n\n\nHere are the event details:<br>Human Rights Due Diligence Step 1 - Policy Commitment on Human Rights\n9 February 2021\, 14:30–15:30 CET\nOnline Event
END:VEVENT
END:VCALENDAR
