BEGIN:VCALENDAR
CALSCALE:GREGORIAN
BEGIN:VEVENT
DTSTAMP:20231022T062910Z
DTSTART:20221117T160000Z
DTEND:20221117T173000Z
SUMMARY:Responsible Impact Board Program - Climate Governance
UID:fd33f885-4c13-4188-a9d2-ff7f322df13e
LOCATION:
DESCRIPTION:Thank you for registering to our event "Responsible Impact Board Program - Climate Governance"\n\nWe're looking forward to seeing you there.\n\nJoin Zoom Meeting\nhttps://us02web.zoom.us/j/84197432574\n\nMeeting ID: 841 9743 2574\n\nDial in according to current location (Switzerland):\n+41 44 529 92 72\n+41 22 591 00 05\n+41 22 591 01 56\n+41 31 528 09 88\n+41 43 210 70 42\n+41 43 210 71 08\nOther locations: https://us02web.zoom.us/u/kc7FZabPlf\n\nIf you have any questions or need to cancel your registration\, please reply to this Email.\n\nYour UN Global Compact Network Switzerland & Liechtenstein Secretariat\n\nHere are the event details:\n\nResponsible Impact Board Program - Climate Governance\n17 November 2022\, 17:00–18:30 CET\nOnline Event
X-ALT-DESC;FMTTYPE=text/html:Thank you for registering to our event "Responsible Impact Board Program - Climate Governance"\n\nWe're looking forward to seeing you there.\n\nJoin Zoom Meeting\nhttps://us02web.zoom.us/j/84197432574\n\nMeeting ID: 841 9743 2574\n\nDial in according to current location (Switzerland):\n+41 44 529 92 72\n+41 22 591 00 05\n+41 22 591 01 56\n+41 31 528 09 88\n+41 43 210 70 42\n+41 43 210 71 08\nOther locations: https://us02web.zoom.us/u/kc7FZabPlf\n\nIf you have any questions or need to cancel your registration\, please reply to this Email.\n\nYour UN Global Compact Network Switzerland & Liechtenstein Secretariat\n\nHere are the event details:<br>Responsible Impact Board Program - Climate Governance\n17 November 2022\, 17:00–18:30 CET\nOnline Event
END:VEVENT
END:VCALENDAR
