BEGIN:VCALENDAR
CALSCALE:GREGORIAN
BEGIN:VEVENT
DTSTAMP:20231022T063313Z
DTSTART:20230126T123000Z
DTEND:20230126T140000Z
SUMMARY:Global Compact Network Austria: THG-Emissionen in der Lieferkette | Teil 2
UID:fea15261-998b-457f-963d-b85a7073f87c
LOCATION:
X-ALT-DESC;FMTTYPE=text/html:
END:VEVENT
END:VCALENDAR
