BEGIN:VCALENDAR
CALSCALE:GREGORIAN
BEGIN:VEVENT
DTSTAMP:20231223T013115Z
DTSTART:20231001T170000Z
DTEND:20231001T183000Z
SUMMARY:Mini-Mensch Meet-Up: Sukkot Edition
UID:08a7b20a-eae2-43b8-8bb4-6a1b9af05880
LOCATION:14899 NE 124th St\, Redmond\, WA 98052\, USA
DESCRIPTION:Thank you for registering for our Mini-Mensch Meet Up!\n\nWe're looking forward to seeing you there.\n\nHere are the event details:\n\nMini-Mensch Meet-Up: Sukkot Edition\nOctober 1\, 2023\, 10:00 – 11:30 AM\nRedmond\, 14899 NE 124th St\, Redmond\, WA 98052\, USA
X-ALT-DESC;FMTTYPE=text/html:Thank you for registering for our Mini-Mensch Meet Up!\n\nWe're looking forward to seeing you there.\n\nHere are the event details:<br>Mini-Mensch Meet-Up: Sukkot Edition\nOctober 1\, 2023\, 10:00 – 11:30 AM\nRedmond\, 14899 NE 124th St\, Redmond\, WA 98052\, USA
END:VEVENT
END:VCALENDAR
