BEGIN:VCALENDAR
CALSCALE:GREGORIAN
BEGIN:VEVENT
DTSTAMP:20231223T013106Z
DTSTART:20231203T180000Z
DTEND:20231203T193000Z
SUMMARY:Mini-Mensch Meet-Up
UID:01456aaa-5724-4f9e-b342-9a3351396b6e
DESCRIPTION:Thank you for registering for our Mini-Mensch Meet Up!\n\nWe're looking forward to seeing you there.\n\nHere are the event details:\n\nMini-Mensch Meet-Up\nDecember 3\, 2023\, 10:00 – 11:30 AM\nLocation is TBD
X-ALT-DESC;FMTTYPE=text/html:Thank you for registering for our Mini-Mensch Meet Up!\n\nWe're looking forward to seeing you there.\n\nHere are the event details:<br>Mini-Mensch Meet-Up\nDecember 3\, 2023\, 10:00 – 11:30 AM\nLocation is TBD
END:VEVENT
END:VCALENDAR
