BEGIN:VCALENDAR
CALSCALE:GREGORIAN
BEGIN:VEVENT
DTSTAMP:20231223T013120Z
DTSTART:20230523T020000Z
DTEND:20230524T020000Z
SUMMARY:Mussar Mondays
UID:02bc7632-d3db-4904-8cde-ab6e5d265ccc
LOCATION:
DESCRIPTION:Thank you for registering to our event! Your tickets are attached to this email. Don't forget to bring them.\n\nWe're looking forward to seeing you there.\n\nHere are the details:\n\nMussar Mondays\nMay 22\, 2023 at 7:00 PM – May 23\, 2023 at 7:00 PM PDT\nZoom
X-ALT-DESC;FMTTYPE=text/html:Thank you for registering to our event! Your tickets are attached to this email. Don't forget to bring them.\n\nWe're looking forward to seeing you there.\n\nHere are the details:<br>Mussar Mondays\nMay 22\, 2023 at 7:00 PM – May 23\, 2023 at 7:00 PM PDT\nZoom
END:VEVENT
END:VCALENDAR
