BEGIN:VCALENDAR
CALSCALE:GREGORIAN
BEGIN:VEVENT
DTSTAMP:20231223T013308Z
DTSTART:20230701T011500Z
DTEND:20230701T040000Z
SUMMARY:Final Fridays: Shabbat en Blanc
UID:0e78cc46-a1ec-4926-b1a0-84831ae465f6
LOCATION:2021 NW 190th St\, Shoreline\, WA 98177\, USA
DESCRIPTION:Thank you for registering for Shabbat En Blanc!\n\nWe're looking forward to seeing you there.\n\nHere are the event details:\n\nFinal Fridays: Shabbat en Blanc\nJune 30\, 2023\, 6:15 – 9:00 PM\nShoreline\, 2021 NW 190th St\, Shoreline\, WA 98177\, USA
X-ALT-DESC;FMTTYPE=text/html:Thank you for registering for Shabbat En Blanc!\n\nWe're looking forward to seeing you there.\n\nHere are the event details:<br>Final Fridays: Shabbat en Blanc\nJune 30\, 2023\, 6:15 – 9:00 PM\nShoreline\, 2021 NW 190th St\, Shoreline\, WA 98177\, USA
END:VEVENT
END:VCALENDAR
