BEGIN:VCALENDAR
CALSCALE:GREGORIAN
BEGIN:VEVENT
DTSTAMP:20231223T013106Z
DTSTART:20230608T010000Z
DTEND:20230608T023000Z
SUMMARY:Jew Curious? Judaism 101
UID:0ed9e5bb-cec4-41c8-b121-ca0655aa71d4
LOCATION:
DESCRIPTION:Thank you for registering to our event!\n\nWe're looking forward to seeing you there.\n\nHere are the event details:\n\nJew Curious? Judaism 101\nJune 7\, 2023\, 6:00 – 7:30 PM PDT\nZoom
X-ALT-DESC;FMTTYPE=text/html:Thank you for registering to our event!\n\nWe're looking forward to seeing you there.\n\nHere are the event details:<br>Jew Curious? Judaism 101\nJune 7\, 2023\, 6:00 – 7:30 PM PDT\nZoom
END:VEVENT
END:VCALENDAR
