BEGIN:VCALENDAR
CALSCALE:GREGORIAN
BEGIN:VEVENT
DTSTAMP:20231223T011429Z
DTSTART:20240113T180000Z
DTEND:20240113T200000Z
SUMMARY:Shabbat Spiritual Refueling
UID:19218110-b320-4433-ae32-07c94388091d
LOCATION:232 Front St N\, Issaquah\, WA 98027\, USA
DESCRIPTION:Thank you for registering to our event!\n\nWe're looking forward to seeing you there.\n\nHere are the event details:\n\nShabbat Spiritual Refueling\nJanuary 13\, 2024\, 10:00 AM – 12:00 PM PST\nIssaquah\, 232 Front St N\, Issaquah\, WA 98027\, USA
X-ALT-DESC;FMTTYPE=text/html:Thank you for registering to our event!\n\nWe're looking forward to seeing you there.\n\nHere are the event details:<br>Shabbat Spiritual Refueling\nJanuary 13\, 2024\, 10:00 AM – 12:00 PM PST\nIssaquah\, 232 Front St N\, Issaquah\, WA 98027\, USA
END:VEVENT
END:VCALENDAR
