BEGIN:VCALENDAR
CALSCALE:GREGORIAN
BEGIN:VEVENT
DTSTAMP:20231223T013149Z
DTSTART:20231118T173000Z
DTEND:20231118T183000Z
SUMMARY:Torah-From Cover to Cover
UID:10a3f2d9-4796-4bdb-814d-f8f57fb40bab
LOCATION:
X-ALT-DESC;FMTTYPE=text/html:
END:VEVENT
END:VCALENDAR
