BEGIN:VCALENDAR
CALSCALE:GREGORIAN
BEGIN:VEVENT
DTSTAMP:20231223T013201Z
DTSTART:20230325T163000Z
DTEND:20230325T180000Z
SUMMARY:This too is Torah!
UID:124128de-c537-4a03-97d7-64d5036661ec
LOCATION:
DESCRIPTION:Thank you for registering to our event! Your tickets are attached to this email. Don't forget to bring them.\n\nWe're looking forward to seeing you there.\n\nHere are the details:\n\nThis too is Torah!\nMarch 25\, 2023\, 9:30 – 11:00 AM PDT\nZoom
X-ALT-DESC;FMTTYPE=text/html:Thank you for registering to our event! Your tickets are attached to this email. Don't forget to bring them.\n\nWe're looking forward to seeing you there.\n\nHere are the details:<br>This too is Torah!\nMarch 25\, 2023\, 9:30 – 11:00 AM PDT\nZoom
END:VEVENT
END:VCALENDAR
