BEGIN:VCALENDAR
CALSCALE:GREGORIAN
BEGIN:VEVENT
DTSTAMP:20231223T013209Z
DTSTART:20230720T010000Z
DTEND:20230720T023000Z
SUMMARY:Jew Curious\; Hot Topics in Judaism
UID:1e4d7103-b4fd-4fd3-8e28-44e75b2f3faa
LOCATION:
DESCRIPTION:Thank you for registering to our event!\n\nWe're looking forward to seeing you there.\n\nHere are the event details:\n\nJew Curious\; Hot Topics in Judaism\nJuly 19\, 2023\, 6:00 – 7:30 PM\nZoom
X-ALT-DESC;FMTTYPE=text/html:Thank you for registering to our event!\n\nWe're looking forward to seeing you there.\n\nHere are the event details:<br>Jew Curious\; Hot Topics in Judaism\nJuly 19\, 2023\, 6:00 – 7:30 PM\nZoom
END:VEVENT
END:VCALENDAR
