BEGIN:VCALENDAR
CALSCALE:GREGORIAN
BEGIN:VEVENT
DTSTAMP:20231223T013127Z
DTSTART:20230610T163000Z
DTEND:20230610T180000Z
SUMMARY:This too is Torah!
UID:1ec7c2ca-e3bb-425c-835e-7b364bd3a6d6
LOCATION:
DESCRIPTION:Thank you for registering to our event! Your tickets are attached to this email. Don't forget to bring them.\n\nWe're looking forward to seeing you there.\n\nHere are the details:\n\nThis too is Torah!\nJune 10\, 2023\, 9:30 – 11:00 AM PDT\nZoom
X-ALT-DESC;FMTTYPE=text/html:Thank you for registering to our event! Your tickets are attached to this email. Don't forget to bring them.\n\nWe're looking forward to seeing you there.\n\nHere are the details:<br>This too is Torah!\nJune 10\, 2023\, 9:30 – 11:00 AM PDT\nZoom
END:VEVENT
END:VCALENDAR
