BEGIN:VCALENDAR
CALSCALE:GREGORIAN
BEGIN:VEVENT
DTSTAMP:20231223T013041Z
DTSTART:20231111T173000Z
DTEND:20231111T183000Z
SUMMARY:Torah-From Cover to Cover
UID:1fc94be5-d709-4ca8-9d76-932333576254
LOCATION:
X-ALT-DESC;FMTTYPE=text/html:
END:VEVENT
END:VCALENDAR
