BEGIN:VCALENDAR
CALSCALE:GREGORIAN
BEGIN:VEVENT
DTSTAMP:20231223T013229Z
DTSTART:20231010T013000Z
DTEND:20231010T023000Z
SUMMARY:Mussar Mondays
UID:2621c4a9-bd0a-4145-ab28-a38739b53cc6
LOCATION:
X-ALT-DESC;FMTTYPE=text/html:
END:VEVENT
END:VCALENDAR
