BEGIN:VCALENDAR
CALSCALE:GREGORIAN
BEGIN:VEVENT
DTSTAMP:20231223T013229Z
DTSTART:20230418T020000Z
DTEND:20230419T020000Z
SUMMARY:Mussar Mondays
UID:2017e63d-1372-4a5b-866b-eec8fa8b72fe
LOCATION:
DESCRIPTION:Thank you for registering to our event! Your tickets are attached to this email. Don't forget to bring them.\n\nWe're looking forward to seeing you there.\n\nHere are the details:\n\nMussar Mondays\nApril 17\, 2023 at 7:00 PM – April 18\, 2023 at 7:00 PM PDT\nZoom
X-ALT-DESC;FMTTYPE=text/html:Thank you for registering to our event! Your tickets are attached to this email. Don't forget to bring them.\n\nWe're looking forward to seeing you there.\n\nHere are the details:<br>Mussar Mondays\nApril 17\, 2023 at 7:00 PM – April 18\, 2023 at 7:00 PM PDT\nZoom
END:VEVENT
END:VCALENDAR
