BEGIN:VCALENDAR
CALSCALE:GREGORIAN
BEGIN:VEVENT
DTSTAMP:20231223T013205Z
DTSTART:20230507T170000Z
DTEND:20230507T193000Z
SUMMARY:Mini-Mensch Workshop
UID:2a92519c-e88f-4e25-a180-be861b43cc5e
DESCRIPTION:Thank you for registering for our workshop! We will be meeting in the Commons area of Third Place Books\, near the coffee shop. \n\nWe're looking forward to seeing you there!\n\nHere are the details:\n\nMini-Mensch Workshop\nMay 7\, 2023\, 10:00 AM – 12:30 PM PDT\nLocation is TBD
X-ALT-DESC;FMTTYPE=text/html:Thank you for registering for our workshop! We will be meeting in the Commons area of Third Place Books\, near the coffee shop. \n\nWe're looking forward to seeing you there!\n\nHere are the details:<br>Mini-Mensch Workshop\nMay 7\, 2023\, 10:00 AM – 12:30 PM PDT\nLocation is TBD
END:VEVENT
END:VCALENDAR
