BEGIN:VCALENDAR
CALSCALE:GREGORIAN
BEGIN:VEVENT
DTSTAMP:20231223T013138Z
DTSTART:20231014T170000Z
DTEND:20231014T190000Z
SUMMARY:Shabbat Spiritual Re-Fueling
UID:2b0c1ae6-89ed-4941-82cf-a1a5bb17fc4c
LOCATION:Issaquah\, WA 98027\, USA
DESCRIPTION:Thank you for registering to our event!\n\nWe're looking forward to seeing you there.\n\nHere are the event details:\n\nShabbat Spiritual Re-Fueling\nOctober 14\, 2023\, 10:00 AM – 12:00 PM\nIssaquah\, Issaquah\, WA 98027\, USA
X-ALT-DESC;FMTTYPE=text/html:Thank you for registering to our event!\n\nWe're looking forward to seeing you there.\n\nHere are the event details:<br>Shabbat Spiritual Re-Fueling\nOctober 14\, 2023\, 10:00 AM – 12:00 PM\nIssaquah\, Issaquah\, WA 98027\, USA
END:VEVENT
END:VCALENDAR
