BEGIN:VCALENDAR
CALSCALE:GREGORIAN
BEGIN:VEVENT
DTSTAMP:20231223T013146Z
DTSTART:20230302T023000Z
DTEND:20230302T040000Z
SUMMARY:Jew Curious? Judaism 101
UID:2e3139ac-473f-4ecc-8432-8a056b6a5daa
LOCATION:
DESCRIPTION:Thank you for registering to our event! Your tickets are attached to this email. Don't forget to bring them.\n\nWe're looking forward to seeing you there.\n\nHere are the details:\n\nJew Curious? Judaism 101\nMarch 1\, 2023\, 6:30 – 8:00 PM PST\nZoom
X-ALT-DESC;FMTTYPE=text/html:Thank you for registering to our event! Your tickets are attached to this email. Don't forget to bring them.\n\nWe're looking forward to seeing you there.\n\nHere are the details:<br>Jew Curious? Judaism 101\nMarch 1\, 2023\, 6:30 – 8:00 PM PST\nZoom
END:VEVENT
END:VCALENDAR
