BEGIN:VCALENDAR
CALSCALE:GREGORIAN
BEGIN:VEVENT
DTSTAMP:20231223T013127Z
DTSTART:20231109T023000Z
DTEND:20231109T033000Z
SUMMARY:Jew Curious\; Hot Topics in Judaism
UID:35711c80-46cb-475c-b67e-44e97bb1d4fe
LOCATION:
X-ALT-DESC;FMTTYPE=text/html:
END:VEVENT
END:VCALENDAR
