BEGIN:VCALENDAR
CALSCALE:GREGORIAN
BEGIN:VEVENT
DTSTAMP:20231223T013212Z
DTSTART:20230813T170000Z
DTEND:20230813T230000Z
SUMMARY:Neighbor 2 Neighbor
UID:3774b0c2-f8ad-4ed8-804c-b77c07495a8c
DESCRIPTION:Thank you for registering to our event! Your tickets are attached to this email. Don't forget to bring them.\n\nWe're looking forward to seeing you there.\n\nHere are the details:\n\nNeighbor 2 Neighbor\nAugust 13\, 2023\, 10:00 AM – 4:00 PM PDT\nSammamish-RSVP for location details
X-ALT-DESC;FMTTYPE=text/html:Thank you for registering to our event! Your tickets are attached to this email. Don't forget to bring them.\n\nWe're looking forward to seeing you there.\n\nHere are the details:<br>Neighbor 2 Neighbor\nAugust 13\, 2023\, 10:00 AM – 4:00 PM PDT\nSammamish-RSVP for location details
END:VEVENT
END:VCALENDAR
