BEGIN:VCALENDAR
CALSCALE:GREGORIAN
BEGIN:VEVENT
DTSTAMP:20231223T013119Z
DTSTART:20230415T163000Z
DTEND:20230415T180000Z
SUMMARY:This too is Torah!
UID:397ec08f-9615-4e99-b534-e9227d704208
LOCATION:
DESCRIPTION:Thank you for registering to our event! Your tickets are attached to this email. Don't forget to bring them.\n\nWe're looking forward to seeing you there.\n\nHere are the details:\n\nThis too is Torah!\nApril 15\, 2023\, 9:30 – 11:00 AM PDT\nZoom
X-ALT-DESC;FMTTYPE=text/html:Thank you for registering to our event! Your tickets are attached to this email. Don't forget to bring them.\n\nWe're looking forward to seeing you there.\n\nHere are the details:<br>This too is Torah!\nApril 15\, 2023\, 9:30 – 11:00 AM PDT\nZoom
END:VEVENT
END:VCALENDAR
