BEGIN:VCALENDAR
CALSCALE:GREGORIAN
BEGIN:VEVENT
DTSTAMP:20231223T013148Z
DTSTART:20230520T170000Z
DTEND:20230520T183000Z
SUMMARY:Torah from Cover to Cover
UID:39568e15-f883-4c3e-988b-c7358c5ec39a
LOCATION:
DESCRIPTION:Thank you for registering to our event!\n\nWe're looking forward to seeing you there.\n\nHere are the event details:\n\nTorah from Cover to Cover\nMay 20\, 2023\, 10:00 – 11:30 AM\nZoom
X-ALT-DESC;FMTTYPE=text/html:Thank you for registering to our event!\n\nWe're looking forward to seeing you there.\n\nHere are the event details:<br>Torah from Cover to Cover\nMay 20\, 2023\, 10:00 – 11:30 AM\nZoom
END:VEVENT
END:VCALENDAR
