BEGIN:VCALENDAR
CALSCALE:GREGORIAN
BEGIN:VEVENT
DTSTAMP:20231223T013301Z
DTSTART:20230401T170000Z
DTEND:20230401T183000Z
SUMMARY:Torah\; From Cover to Cover
UID:311d15a9-fdc2-4087-a062-ecb1e76371c4
LOCATION:
DESCRIPTION:Thank you for registering to our event!\n\nWe're looking forward to seeing you there.\n\nHere are the event details:\n\nTorah\; From Cover to Cover\nApril 1\, 2023\, 10:00 – 11:30 AM\nZoom
X-ALT-DESC;FMTTYPE=text/html:Thank you for registering to our event!\n\nWe're looking forward to seeing you there.\n\nHere are the event details:<br>Torah\; From Cover to Cover\nApril 1\, 2023\, 10:00 – 11:30 AM\nZoom
END:VEVENT
END:VCALENDAR
