BEGIN:VCALENDAR
CALSCALE:GREGORIAN
BEGIN:VEVENT
DTSTAMP:20231223T013234Z
DTSTART:20231024T013000Z
DTEND:20231024T023000Z
SUMMARY:Mussar Mondays
UID:3af8230b-48ed-448c-ac5d-aa15e1b62e42
LOCATION:
X-ALT-DESC;FMTTYPE=text/html:
END:VEVENT
END:VCALENDAR
