BEGIN:VCALENDAR
CALSCALE:GREGORIAN
BEGIN:VEVENT
DTSTAMP:20231223T013047Z
DTSTART:20230425T020000Z
DTEND:20230426T020000Z
SUMMARY:Mussar Mondays
UID:3b20bd7f-1d18-4ae8-aa08-c8a5bebdc745
LOCATION:
DESCRIPTION:Thank you for registering to our event! Your tickets are attached to this email. Don't forget to bring them.\n\nWe're looking forward to seeing you there.\n\nHere are the details:\n\nMussar Mondays\nApril 24\, 2023 at 7:00 PM – April 25\, 2023 at 7:00 PM PDT\nZoom
X-ALT-DESC;FMTTYPE=text/html:Thank you for registering to our event! Your tickets are attached to this email. Don't forget to bring them.\n\nWe're looking forward to seeing you there.\n\nHere are the details:<br>Mussar Mondays\nApril 24\, 2023 at 7:00 PM – April 25\, 2023 at 7:00 PM PDT\nZoom
END:VEVENT
END:VCALENDAR
