BEGIN:VCALENDAR
CALSCALE:GREGORIAN
BEGIN:VEVENT
DTSTAMP:20231223T013237Z
DTSTART:20230923T163000Z
DTEND:20230923T173000Z
SUMMARY:Torah-From Cover to Cover
UID:3fddaf77-dc67-4b0d-a2aa-c80963e90b3f
LOCATION:
X-ALT-DESC;FMTTYPE=text/html:
END:VEVENT
END:VCALENDAR
