BEGIN:VCALENDAR
CALSCALE:GREGORIAN
BEGIN:VEVENT
DTSTAMP:20231223T013200Z
DTSTART:20230514T170000Z
DTEND:20230514T190000Z
SUMMARY:Mini-Mensch
UID:44ad25b4-2ba8-49b6-898c-9a24721a27fe
DESCRIPTION:Thank you for registering to our event! Your tickets are attached to this email. Don't forget to bring them.\n\nWe're looking forward to seeing you there.\n\nHere are the details:\n\nMini-Mensch\nMay 14\, 2023\, 10:00 AM – 12:00 PM PDT\nLocation is TBD
X-ALT-DESC;FMTTYPE=text/html:Thank you for registering to our event! Your tickets are attached to this email. Don't forget to bring them.\n\nWe're looking forward to seeing you there.\n\nHere are the details:<br>Mini-Mensch\nMay 14\, 2023\, 10:00 AM – 12:00 PM PDT\nLocation is TBD
END:VEVENT
END:VCALENDAR
