BEGIN:VCALENDAR
CALSCALE:GREGORIAN
BEGIN:VEVENT
DTSTAMP:20231223T013222Z
DTSTART:20230318T011500Z
DTEND:20230318T040000Z
SUMMARY:Mexican Shabbat Supper Club at Casa de Danziger
UID:46788c5b-d96e-4933-8747-fb3109d1d6e0
LOCATION:Kenmore\, WA\, USA
DESCRIPTION:Thank you for registering for Shabbat Supper Club at Casa de Danziger! Our home is located in Kenmore\, at the Northern tip of Lake Washington. Our address is 19621 62nd Ct. NE\, Kenmore\, WA 98028.\n\nWe're looking forward to seeing you here.\n\nHere are the event details:\n\nMexican Shabbat Supper Club at Casa de Danziger\nMarch 17\, 2023\, 6:15 – 9:00 PM PDT\nKenmore\, Kenmore\, WA\, USA
X-ALT-DESC;FMTTYPE=text/html:Thank you for registering for Shabbat Supper Club at Casa de Danziger! Our home is located in Kenmore\, at the Northern tip of Lake Washington. Our address is 19621 62nd Ct. NE\, Kenmore\, WA 98028.\n\nWe're looking forward to seeing you here.\n\nHere are the event details:<br>Mexican Shabbat Supper Club at Casa de Danziger\nMarch 17\, 2023\, 6:15 – 9:00 PM PDT\nKenmore\, Kenmore\, WA\, USA
END:VEVENT
END:VCALENDAR
