BEGIN:VCALENDAR
CALSCALE:GREGORIAN
BEGIN:VEVENT
DTSTAMP:20231223T013105Z
DTSTART:20230516T020000Z
DTEND:20230517T020000Z
SUMMARY:Mussar Mondays
UID:492bf0e3-92a1-4163-8f30-cc0ae5f02814
LOCATION:
DESCRIPTION:Thank you for registering to our event! Your tickets are attached to this email. Don't forget to bring them.\n\nWe're looking forward to seeing you there.\n\nHere are the details:\n\nMussar Mondays\nMay 15\, 2023 at 7:00 PM – May 16\, 2023 at 7:00 PM PDT\nZoom
X-ALT-DESC;FMTTYPE=text/html:Thank you for registering to our event! Your tickets are attached to this email. Don't forget to bring them.\n\nWe're looking forward to seeing you there.\n\nHere are the details:<br>Mussar Mondays\nMay 15\, 2023 at 7:00 PM – May 16\, 2023 at 7:00 PM PDT\nZoom
END:VEVENT
END:VCALENDAR
