BEGIN:VCALENDAR
CALSCALE:GREGORIAN
BEGIN:VEVENT
DTSTAMP:20231223T013104Z
DTSTART:20230311T180000Z
DTEND:20230311T193000Z
SUMMARY:Torah\; From cover to cover
UID:499db4a8-710d-405f-a1a7-fb6cd8926da8
LOCATION:
DESCRIPTION:Thank you for registering to our event!\n\nWe're looking forward to seeing you there.\n\nHere are the event details:\n\nTorah\; From cover to cover\nMarch 11\, 2023\, 10:00 – 11:30 AM\nZoom
X-ALT-DESC;FMTTYPE=text/html:Thank you for registering to our event!\n\nWe're looking forward to seeing you there.\n\nHere are the event details:<br>Torah\; From cover to cover\nMarch 11\, 2023\, 10:00 – 11:30 AM\nZoom
END:VEVENT
END:VCALENDAR
