BEGIN:VCALENDAR
CALSCALE:GREGORIAN
BEGIN:VEVENT
DTSTAMP:20231223T013053Z
DTSTART:20231017T013000Z
DTEND:20231017T023000Z
SUMMARY:Mussar Mondays
UID:4dc0720e-c8f8-41a8-b50d-994c3ec8ac63
LOCATION:
X-ALT-DESC;FMTTYPE=text/html:
END:VEVENT
END:VCALENDAR
