BEGIN:VCALENDAR
CALSCALE:GREGORIAN
BEGIN:VEVENT
DTSTAMP:20231223T013058Z
DTSTART:20230613T020000Z
DTEND:20230614T020000Z
SUMMARY:Mussar Mondays
UID:4f671022-0c24-4f68-8859-882caa095154
LOCATION:
DESCRIPTION:Thank you for registering to our event! Your tickets are attached to this email. Don't forget to bring them.\n\nWe're looking forward to seeing you there.\n\nHere are the details:\n\nMussar Mondays\nJune 12\, 2023 at 7:00 PM – June 13\, 2023 at 7:00 PM PDT\nZoom
X-ALT-DESC;FMTTYPE=text/html:Thank you for registering to our event! Your tickets are attached to this email. Don't forget to bring them.\n\nWe're looking forward to seeing you there.\n\nHere are the details:<br>Mussar Mondays\nJune 12\, 2023 at 7:00 PM – June 13\, 2023 at 7:00 PM PDT\nZoom
END:VEVENT
END:VCALENDAR
