BEGIN:VCALENDAR
CALSCALE:GREGORIAN
BEGIN:VEVENT
DTSTAMP:20231223T013257Z
DTSTART:20231219T030000Z
DTEND:20231219T040000Z
SUMMARY:Mussar Mondays
UID:5012a35b-b203-46fc-852f-d7ae2211039f
LOCATION:
X-ALT-DESC;FMTTYPE=text/html:
END:VEVENT
END:VCALENDAR
