BEGIN:VCALENDAR
CALSCALE:GREGORIAN
BEGIN:VEVENT
DTSTAMP:20231223T013219Z
DTSTART:20230610T170000Z
DTEND:20230610T183000Z
SUMMARY:Torah from Cover to Cover
UID:51adba2c-90fb-4b2b-992f-4753c2e82a64
LOCATION:
DESCRIPTION:Thank you for registering to our event!\n\nWe're looking forward to seeing you there.\n\nHere are the event details:\n\nTorah from Cover to Cover\nJune 10\, 2023\, 10:00 – 11:30 AM\nZoom
X-ALT-DESC;FMTTYPE=text/html:Thank you for registering to our event!\n\nWe're looking forward to seeing you there.\n\nHere are the event details:<br>Torah from Cover to Cover\nJune 10\, 2023\, 10:00 – 11:30 AM\nZoom
END:VEVENT
END:VCALENDAR
