BEGIN:VCALENDAR
CALSCALE:GREGORIAN
BEGIN:VEVENT
DTSTAMP:20231223T013240Z
DTSTART:20230218T021500Z
DTEND:20230218T050000Z
SUMMARY:Shabbat Supper Club
UID:53d02b1f-f09a-461e-b78e-aeb6a7c3ca3f
LOCATION:Maple Valley\, WA 98038\, USA
DESCRIPTION:Thank you for registering to our event!\n\nWe're looking forward to seeing you there.\n\nHere are the event details:\n\nShabbat Supper Club\nFebruary 17\, 2023\, 6:15 – 9:00 PM PST\nMaple Valley\, Maple Valley\, WA 98038\, USA
X-ALT-DESC;FMTTYPE=text/html:Thank you for registering to our event!\n\nWe're looking forward to seeing you there.\n\nHere are the event details:<br>Shabbat Supper Club\nFebruary 17\, 2023\, 6:15 – 9:00 PM PST\nMaple Valley\, Maple Valley\, WA 98038\, USA
END:VEVENT
END:VCALENDAR
